BEGIN:VCALENDAR
VERSION:2.0
PRODID:-//NESIT - ECPv4.9.12//NONSGML v1.0//EN
CALSCALE:GREGORIAN
METHOD:PUBLISH
X-WR-CALNAME:NESIT
X-ORIGINAL-URL:https://nesit.org
X-WR-CALDESC:Events for NESIT
BEGIN:VTIMEZONE
TZID:America/New_York
BEGIN:DAYLIGHT
TZOFFSETFROM:-0500
TZOFFSETTO:-0400
TZNAME:EDT
DTSTART:20170312T070000
END:DAYLIGHT
BEGIN:STANDARD
TZOFFSETFROM:-0400
TZOFFSETTO:-0500
TZNAME:EST
DTSTART:20171105T060000
END:STANDARD
END:VTIMEZONE
BEGIN:VEVENT
DTSTART;TZID=America/New_York:20170412T190000
DTEND;TZID=America/New_York:20170412T200000
DTSTAMP:20260423T031714
CREATED:20170401T211526Z
LAST-MODIFIED:20170401T211526Z
UID:283-1492023600-1492027200@nesit.org
SUMMARY:Introduction to Mechanical Engineering
DESCRIPTION:NESIT member Dave R. will be going over the steps entailed in becoming a Mechanical Engineer.  We’ll be focusing on: \n\nHow does a Wind Turbine Work?\nWhat college classes does a student typically take to get a degree in Mechanical Engineering?\n“At your first job”… What is an example of a calculation and design task that an entry-level mechanical engineer would be expected to perform?\n\nOf interest to Boy Scouts we will cover the requirements for Engineering Merit Badges 4 and 8 and part of Energy Merit Badge 7’s requirements. \n
URL:https://nesit.org/index.php/event/introduction-to-mechanical-engineering/
LOCATION:NESIT Classroom\, 290 Pratt St.\, Meriden\, CT\, 06450\, United States
ATTACH;FMTTYPE=image/jpeg:https://nesit.org/wp-content/uploads/2017/04/Urbine_raising062p.jpg
ORGANIZER;CN="NESIT%20Inc.":MAILTO:info on the nesit.org domain
END:VEVENT
END:VCALENDAR